BEGIN:VCALENDAR
VERSION:2.0
PRODID:-//IDOLOCA - ECPv6.15.20//NONSGML v1.0//EN
CALSCALE:GREGORIAN
METHOD:PUBLISH
X-ORIGINAL-URL:https://idoloca.com
X-WR-CALDESC:Eventos para IDOLOCA
REFRESH-INTERVAL;VALUE=DURATION:PT1H
X-Robots-Tag:noindex
X-PUBLISHED-TTL:PT1H
BEGIN:VTIMEZONE
TZID:Europe/Madrid
BEGIN:DAYLIGHT
TZOFFSETFROM:+0100
TZOFFSETTO:+0200
TZNAME:CEST
DTSTART:20190331T010000
END:DAYLIGHT
BEGIN:STANDARD
TZOFFSETFROM:+0200
TZOFFSETTO:+0100
TZNAME:CET
DTSTART:20191027T010000
END:STANDARD
BEGIN:DAYLIGHT
TZOFFSETFROM:+0100
TZOFFSETTO:+0200
TZNAME:CEST
DTSTART:20200329T010000
END:DAYLIGHT
BEGIN:STANDARD
TZOFFSETFROM:+0200
TZOFFSETTO:+0100
TZNAME:CET
DTSTART:20201025T010000
END:STANDARD
BEGIN:DAYLIGHT
TZOFFSETFROM:+0100
TZOFFSETTO:+0200
TZNAME:CEST
DTSTART:20210328T010000
END:DAYLIGHT
BEGIN:STANDARD
TZOFFSETFROM:+0200
TZOFFSETTO:+0100
TZNAME:CET
DTSTART:20211031T010000
END:STANDARD
END:VTIMEZONE
BEGIN:VEVENT
DTSTART;TZID=Europe/Madrid:20200724T220000
DTEND;TZID=Europe/Madrid:20200724T230000
DTSTAMP:20260425T032449
CREATED:20200703T232556Z
LAST-MODIFIED:20200703T232556Z
UID:1139-1595628000-1595631600@idoloca.com
SUMMARY:The little big circus
DESCRIPTION:Espectáculo familiar y en hoteles de Valery Bla Blar\, Antoñito Huevo frito e Ido Loca.
URL:https://idoloca.com/proxima-actuacion/the-little-big-circus-4/
LOCATION:roquetas de mar\, granada\, Roquetas de mar\, Granada\, España
CATEGORIES:Hoteles Andalucia
END:VEVENT
BEGIN:VEVENT
DTSTART;TZID=Europe/Madrid:20200725T220000
DTEND;TZID=Europe/Madrid:20200725T230000
DTSTAMP:20260425T032449
CREATED:20200703T232838Z
LAST-MODIFIED:20200703T232927Z
UID:1141-1595714400-1595718000@idoloca.com
SUMMARY:The Little Big Circus
DESCRIPTION:Espectáculo familiar y en hoteles\, versione cabaret; con la grata compañía de Valery BlaBla\, Antoñito Huevo Frito e Ido Loca.
URL:https://idoloca.com/proxima-actuacion/the-little-big-circus-5/
LOCATION:roquetas de mar\, granada\, Roquetas de mar\, Granada\, España
CATEGORIES:Hoteles Andalucia
END:VEVENT
BEGIN:VEVENT
DTSTART;TZID=Europe/Madrid:20200728T220000
DTEND;TZID=Europe/Madrid:20200728T230000
DTSTAMP:20260425T032449
CREATED:20200703T233237Z
LAST-MODIFIED:20200703T233237Z
UID:1143-1595973600-1595977200@idoloca.com
SUMMARY:The Little Big Circus
DESCRIPTION:Valery BlaBla\, Antoñito Huevo Frito e Ido Loca forman compañía para trabajar en hoteles de Andalucía. Espectáculo circense\, diversión 100 % garantizada.
URL:https://idoloca.com/proxima-actuacion/the-little-big-circus-6/
LOCATION:Chiclana\, Chiclana de la frontera\, Cadiz\, España
CATEGORIES:Hoteles Andalucia
END:VEVENT
END:VCALENDAR