BEGIN:VCALENDAR
VERSION:2.0
PRODID:-//IDOLOCA - ECPv6.15.20//NONSGML v1.0//EN
CALSCALE:GREGORIAN
METHOD:PUBLISH
X-WR-CALNAME:IDOLOCA
X-ORIGINAL-URL:https://idoloca.com
X-WR-CALDESC:Eventos para IDOLOCA
REFRESH-INTERVAL;VALUE=DURATION:PT1H
X-Robots-Tag:noindex
X-PUBLISHED-TTL:PT1H
BEGIN:VTIMEZONE
TZID:Europe/Madrid
BEGIN:DAYLIGHT
TZOFFSETFROM:+0100
TZOFFSETTO:+0200
TZNAME:CEST
DTSTART:20200329T010000
END:DAYLIGHT
BEGIN:STANDARD
TZOFFSETFROM:+0200
TZOFFSETTO:+0100
TZNAME:CET
DTSTART:20201025T010000
END:STANDARD
BEGIN:DAYLIGHT
TZOFFSETFROM:+0100
TZOFFSETTO:+0200
TZNAME:CEST
DTSTART:20210328T010000
END:DAYLIGHT
BEGIN:STANDARD
TZOFFSETFROM:+0200
TZOFFSETTO:+0100
TZNAME:CET
DTSTART:20211031T010000
END:STANDARD
BEGIN:DAYLIGHT
TZOFFSETFROM:+0100
TZOFFSETTO:+0200
TZNAME:CEST
DTSTART:20220327T010000
END:DAYLIGHT
BEGIN:STANDARD
TZOFFSETFROM:+0200
TZOFFSETTO:+0100
TZNAME:CET
DTSTART:20221030T010000
END:STANDARD
END:VTIMEZONE
BEGIN:VEVENT
DTSTART;TZID=Europe/Madrid:20210103T170000
DTEND;TZID=Europe/Madrid:20210103T190000
DTSTAMP:20260421T100124
CREATED:20210218T213126Z
LAST-MODIFIED:20210218T213126Z
UID:1179-1609693200-1609700400@idoloca.com
SUMMARY:El idotatorio
DESCRIPTION:Show de stand up sin texto. no son monólogos\, no es teatro\, no sabemos lo que es. Lo que sí sabemos es que nunca has visto algo así. Y que es muy \, muy gracioso.
URL:https://idoloca.com/proxima-actuacion/el-idotatorio/
LOCATION:abonavida\, madrid\, España
CATEGORIES:Eventos en Madrid
END:VEVENT
END:VCALENDAR