BEGIN:VCALENDAR
VERSION:2.0
PRODID:-//IDOLOCA - ECPv6.15.20//NONSGML v1.0//EN
CALSCALE:GREGORIAN
METHOD:PUBLISH
X-WR-CALNAME:IDOLOCA
X-ORIGINAL-URL:https://idoloca.com
X-WR-CALDESC:Eventos para IDOLOCA
REFRESH-INTERVAL;VALUE=DURATION:PT1H
X-Robots-Tag:noindex
X-PUBLISHED-TTL:PT1H
BEGIN:VTIMEZONE
TZID:Europe/Madrid
BEGIN:DAYLIGHT
TZOFFSETFROM:+0100
TZOFFSETTO:+0200
TZNAME:CEST
DTSTART:20190331T010000
END:DAYLIGHT
BEGIN:STANDARD
TZOFFSETFROM:+0200
TZOFFSETTO:+0100
TZNAME:CET
DTSTART:20191027T010000
END:STANDARD
BEGIN:DAYLIGHT
TZOFFSETFROM:+0100
TZOFFSETTO:+0200
TZNAME:CEST
DTSTART:20200329T010000
END:DAYLIGHT
BEGIN:STANDARD
TZOFFSETFROM:+0200
TZOFFSETTO:+0100
TZNAME:CET
DTSTART:20201025T010000
END:STANDARD
BEGIN:DAYLIGHT
TZOFFSETFROM:+0100
TZOFFSETTO:+0200
TZNAME:CEST
DTSTART:20210328T010000
END:DAYLIGHT
BEGIN:STANDARD
TZOFFSETFROM:+0200
TZOFFSETTO:+0100
TZNAME:CET
DTSTART:20211031T010000
END:STANDARD
END:VTIMEZONE
BEGIN:VEVENT
DTSTART;TZID=Europe/Madrid:20201227T173000
DTEND;TZID=Europe/Madrid:20201227T190000
DTSTAMP:20260421T112236
CREATED:20210218T212804Z
LAST-MODIFIED:20210218T212804Z
UID:1173-1609090200-1609095600@idoloca.com
SUMMARY:El Idiotatorio
DESCRIPTION:Show de stand up sin texto. no son monólogos\, no es teatro\, no sabemos lo que es. Lo que sí sabemos es que nunca has visto algo así. Y que es muy \, muy gracioso.
URL:https://idoloca.com/proxima-actuacion/el-idiotatorio/
LOCATION:abonavida\, madrid\, España
CATEGORIES:Eventos en Madrid
ATTACH;FMTTYPE=image/jpeg:https://idoloca.com/wp-content/uploads/2021/02/134392961_827395617824712_6710110143479601393_n.jpg
END:VEVENT
END:VCALENDAR